BEGIN:VCALENDAR
VERSION:2.0
PRODID:-//La voie de la simplicité - ECPv6.5.0//NONSGML v1.0//EN
CALSCALE:GREGORIAN
METHOD:PUBLISH
X-ORIGINAL-URL:https://lavoiedelasimplicite.fr
X-WR-CALDESC:évènements pour La voie de la simplicité
REFRESH-INTERVAL;VALUE=DURATION:PT1H
X-Robots-Tag:noindex
X-PUBLISHED-TTL:PT1H
BEGIN:VTIMEZONE
TZID:UTC
BEGIN:STANDARD
TZOFFSETFROM:+0000
TZOFFSETTO:+0000
TZNAME:UTC
DTSTART:20260101T000000
END:STANDARD
END:VTIMEZONE
BEGIN:VEVENT
DTSTART;TZID=UTC:20260305T203000
DTEND;TZID=UTC:20260305T223000
DTSTAMP:20260423T163137
CREATED:20250913T093351Z
LAST-MODIFIED:20260215T165958Z
UID:1125-1772742600-1772749800@lavoiedelasimplicite.fr
SUMMARY:Atelier - Immersion Cristalline - Voyage sonorte
DESCRIPTION:Atelier Immersion Cristalline\nImmersion sonore au cœur du cristal\nJe vous donne rendez-vous à la nouvelle salle de la Mane (31130) de 20h30 à 22h30\, pour un instant de  présence 100% au cœur du Cristal\, Par le son pur des bols de cristal\, de la pyramide de cristal et du pendule de cristal\, c’est une invitation à accueillir la fréquence vibratoire cristalline. \nUne résonance à la fréquence du cristal ? Un appel du cœur à vivre cet instant cristallin ? Envie de découvrir un voyage sonore que cristal ? Une sensibilité au monde cristallin ? \nEt bien d’autres raison qui pourrait vous amener à vivre ce moment relié à la pureté du cristal. \nJe vous accueille avec joie et bienveillance. \nPour vous inscrire ou information complémentaire par MP\, SMS ou mail \nBelle journée\, \nDenis BERTRAND \nGuérisseur\, Facilitateur \nSoin en présentiel à la Mane : le vendredi (de 9h à 18h) et le samedi matin (de 9h à 12h)
URL:https://lavoiedelasimplicite.fr/agenda/cercle-dhomme-2-6-10-3-2-3-9-12
LOCATION:La Mane\, 9 avenue de Lagarde\, Balma\, 31130\, France
ATTACH;FMTTYPE=image/png:https://lavoiedelasimplicite.fr/wp-content/uploads/2025/09/2-1.png
ORGANIZER;CN="Denis Bertrand":MAILTO:lavoiedelasimplicite@gmail.com
END:VEVENT
BEGIN:VEVENT
DTSTART;TZID=UTC:20260312T203000
DTEND;TZID=UTC:20260312T223000
DTSTAMP:20260423T163137
CREATED:20250913T093510Z
LAST-MODIFIED:20260215T170239Z
UID:1126-1773347400-1773354600@lavoiedelasimplicite.fr
SUMMARY:Atelier d'Initiation à la prière du "Notre Père" en araméen
DESCRIPTION:Atelier d’initiation à la prière du « Notre Père » en araméen\nPartage sur les loggia de l’Evangile de Thomas et de Philippe\nUne soirée dédiée à l’apprentissage de la prière du « Notre Père » en araméen. \nJe vous accompagne à l’intégrer et vous communique les outils à l’apprentissage. Nous verrons aussi la symbolique et le message. \nA travers l’Evangile de Thomas et Philippe\, écrits retrouvés sur le site de Nag Hammadi\, textes apocryphes\, nous lirons quelques loggia afin d’en extraire le sens\, pour sa propre élévation personnelle\, un instant de partage\, dans la bienveillance et le respect de la parole de chacun et chacune. \nPour vous inscrire ou obtenir des informations complémentaires\, contactez-moi !\n \nMerci\, \nA bientôt\, \nDenis BERTRAND \nGuérisseur\, Facilitateur \nSoin en présentiel à la Mane : le vendredi (de 9h à 18h) et le samedi matin (de 9h à 12h)
URL:https://lavoiedelasimplicite.fr/agenda/cercle-dhomme-2-6-10-3-2-3-9-13
LOCATION:La Mane\, 9 avenue de Lagarde\, Balma\, 31130\, France
ATTACH;FMTTYPE=image/png:https://lavoiedelasimplicite.fr/wp-content/uploads/2025/09/6.png
ORGANIZER;CN="Denis Bertrand":MAILTO:lavoiedelasimplicite@gmail.com
END:VEVENT
BEGIN:VEVENT
DTSTART;TZID=UTC:20260319T203000
DTEND;TZID=UTC:20260319T223000
DTSTAMP:20260423T163137
CREATED:20250913T093646Z
LAST-MODIFIED:20260215T165831Z
UID:1127-1773952200-1773959400@lavoiedelasimplicite.fr
SUMMARY:Atelier - Immersion Cristalline - Voyage sonore
DESCRIPTION:Atelier Immersion Cristalline\nImmersion sonore au cœur du cristal\nJe vous donne rendez-vous à la nouvelle salle de la Mane (31130) de 20h30 à 22h30\, pour un instant de  présence 100% au cœur du Cristal\, Par le son pur des bols de cristal\, de la pyramide de cristal et du pendule de cristal\, c’est une invitation à accueillir la fréquence vibratoire cristalline. \nUne résonance à la fréquence du cristal ? Un appel du cœur à vivre cet instant cristallin ? Envie de découvrir un voyage sonore que cristal ? Une sensibilité au monde cristallin ? \nEt bien d’autres raison qui pourrait vous amener à vivre ce moment relié à la pureté du cristal. \nJe vous accueille avec joie et bienveillance. \nPour vous inscrire ou information complémentaire par MP\, SMS ou mail \nBelle journée\, \nDenis BERTRAND \nGuérisseur\, Facilitateur \nSoin en présentiel à la Mane : le vendredi (de 9h à 18h) et le samedi matin (de 9h à 12h)
URL:https://lavoiedelasimplicite.fr/agenda/cercle-dhomme-2-6-10-3-2-3-9-14
LOCATION:La Mane\, 9 avenue de Lagarde\, Balma\, 31130\, France
ATTACH;FMTTYPE=image/png:https://lavoiedelasimplicite.fr/wp-content/uploads/2025/09/3-1.png
ORGANIZER;CN="Denis Bertrand":MAILTO:lavoiedelasimplicite@gmail.com
END:VEVENT
BEGIN:VEVENT
DTSTART;TZID=UTC:20260326T203000
DTEND;TZID=UTC:20260326T223000
DTSTAMP:20260423T163137
CREATED:20250913T093759Z
LAST-MODIFIED:20260215T171818Z
UID:1128-1774557000-1774564200@lavoiedelasimplicite.fr
SUMMARY:Atelier de l'Expression de l'âme au travers des sens
DESCRIPTION:Atelier de l’Expression de l’âme au travers des sens\nTrois rendez-vous : 26/03\, 9/04 et le 7/05 \nUne proposition pour se relier\, se connecter à son âme au travers de l’exploration des sens. \nLe 26/03\, c’est une exploration de la vue et du toucher. \nLe 9/04\, c’est un exploration de l’ouïe et l’odorat. \nLe 7/5\, c’est l’exploration du gout et une synthèse des trois rendez-vous. \nPour vous inscrire ou obtenir des informations complémentaires\, contactez-moi !\n \nMail\, SMS \nA bientôt\, \nDenis BERTRAND \nGuérisseur\, Facilitateur \nSoin en présentiel à la Mane : le vendredi (de 9h à 18h) et le samedi matin (de 9h à 12h)
URL:https://lavoiedelasimplicite.fr/agenda/cercle-dhomme-2-6-10-3-2-3-9-15
LOCATION:La Mane\, 9 avenue de Lagarde\, Balma\, 31130\, France
ATTACH;FMTTYPE=image/png:https://lavoiedelasimplicite.fr/wp-content/uploads/2025/09/1-1.png
ORGANIZER;CN="Denis Bertrand":MAILTO:lavoiedelasimplicite@gmail.com
END:VEVENT
END:VCALENDAR