BEGIN:VCALENDAR
VERSION:2.0
PRODID:-//La voie de la simplicité - ECPv6.5.0//NONSGML v1.0//EN
CALSCALE:GREGORIAN
METHOD:PUBLISH
X-ORIGINAL-URL:https://lavoiedelasimplicite.fr
X-WR-CALDESC:évènements pour La voie de la simplicité
REFRESH-INTERVAL;VALUE=DURATION:PT1H
X-Robots-Tag:noindex
X-PUBLISHED-TTL:PT1H
BEGIN:VTIMEZONE
TZID:UTC
BEGIN:STANDARD
TZOFFSETFROM:+0000
TZOFFSETTO:+0000
TZNAME:UTC
DTSTART:20260101T000000
END:STANDARD
END:VTIMEZONE
BEGIN:VEVENT
DTSTART;TZID=UTC:20260108T203000
DTEND;TZID=UTC:20260108T223000
DTSTAMP:20260425T124002
CREATED:20250913T091828Z
LAST-MODIFIED:20250913T091828Z
UID:1107-1767904200-1767911400@lavoiedelasimplicite.fr
SUMMARY:Atelier de méditation\, espace de partage\, initiation\, cercle\, voyage sonore ou conférence
DESCRIPTION:Atelier de méditation\, espace de partage\, initiation\, cercles de parole\, conférence ou voyage sonore\nThème de la soirée défini à ce jour. \nPour vous inscrire ou obtenir des informations complémentaires\, contactez-moi !\n \nA bientôt\, \nDenis BERTRAND \nGuérisseur\, Facilitateur \nSoin en présentiel à la Mane : le vendredi (de 9h à 18h) et le samedi matin (de 9h à 12h)
URL:https://lavoiedelasimplicite.fr/agenda/cercle-dhomme-2-6-10-3-2-3-9-4
LOCATION:La Mane\, 9 avenue de Lagarde\, Balma\, 31130\, France
ATTACH;FMTTYPE=image/png:https://lavoiedelasimplicite.fr/wp-content/uploads/2025/09/3.png
ORGANIZER;CN="Denis Bertrand":MAILTO:lavoiedelasimplicite@gmail.com
END:VEVENT
BEGIN:VEVENT
DTSTART;TZID=UTC:20260115T203000
DTEND;TZID=UTC:20260115T223000
DTSTAMP:20260425T124002
CREATED:20250913T092003Z
LAST-MODIFIED:20250913T092003Z
UID:1106-1768509000-1768516200@lavoiedelasimplicite.fr
SUMMARY:Atelier de méditation\, espace de partage\, initiation\, cercle\, voyage sonore ou conférence
DESCRIPTION:Atelier de méditation\, espace de partage\, initiation\, cercles de parole\, conférence ou voyage sonore\nThème de la soirée défini à ce jour. \nPour vous inscrire ou obtenir des informations complémentaires\, contactez-moi !\n \nA bientôt\, \nDenis BERTRAND \nGuérisseur\, Facilitateur \nSoin en présentiel à la Mane : le vendredi (de 9h à 18h) et le samedi matin (de 9h à 12h)
URL:https://lavoiedelasimplicite.fr/agenda/cercle-dhomme-2-6-10-3-2-3-9-5
LOCATION:La Mane\, 9 avenue de Lagarde\, Balma\, 31130\, France
ATTACH;FMTTYPE=image/png:https://lavoiedelasimplicite.fr/wp-content/uploads/2025/09/3.png
ORGANIZER;CN="Denis Bertrand":MAILTO:lavoiedelasimplicite@gmail.com
END:VEVENT
BEGIN:VEVENT
DTSTART;TZID=UTC:20260122T203000
DTEND;TZID=UTC:20260122T223000
DTSTAMP:20260425T124002
CREATED:20250913T092133Z
LAST-MODIFIED:20250913T092133Z
UID:1105-1769113800-1769121000@lavoiedelasimplicite.fr
SUMMARY:Atelier de méditation\, espace de partage\, initiation\, cercle\, voyage sonore ou conférence
DESCRIPTION:Atelier de méditation\, espace de partage\, initiation\, cercles de parole\, conférence ou voyage sonore\nThème de la soirée défini à ce jour. \nPour vous inscrire ou obtenir des informations complémentaires\, contactez-moi !\n \nA bientôt\, \nDenis BERTRAND \nGuérisseur\, Facilitateur \nSoin en présentiel à la Mane : le vendredi (de 9h à 18h) et le samedi matin (de 9h à 12h)
URL:https://lavoiedelasimplicite.fr/agenda/cercle-dhomme-2-6-10-3-2-3-9-6
LOCATION:La Mane\, 9 avenue de Lagarde\, Balma\, 31130\, France
ATTACH;FMTTYPE=image/png:https://lavoiedelasimplicite.fr/wp-content/uploads/2025/09/3.png
ORGANIZER;CN="Denis Bertrand":MAILTO:lavoiedelasimplicite@gmail.com
END:VEVENT
BEGIN:VEVENT
DTSTART;TZID=UTC:20260129T203000
DTEND;TZID=UTC:20260129T223000
DTSTAMP:20260425T124002
CREATED:20250913T092309Z
LAST-MODIFIED:20250913T092309Z
UID:1104-1769718600-1769725800@lavoiedelasimplicite.fr
SUMMARY:Atelier de méditation\, espace de partage\, initiation\, cercle\, voyage sonore ou conférence
DESCRIPTION:Atelier de méditation\, espace de partage\, initiation\, cercles de parole\, conférence ou voyage sonore\nThème de la soirée défini à ce jour. \nPour vous inscrire ou obtenir des informations complémentaires\, contactez-moi !\n \nA bientôt\, \nDenis BERTRAND \nGuérisseur\, Facilitateur \nSoin en présentiel à la Mane : le vendredi (de 9h à 18h) et le samedi matin (de 9h à 12h)
URL:https://lavoiedelasimplicite.fr/agenda/cercle-dhomme-2-6-10-3-2-3-9-7
LOCATION:Espace monestié\, plaisance du touch\, 31830\, France
ATTACH;FMTTYPE=image/png:https://lavoiedelasimplicite.fr/wp-content/uploads/2025/09/3.png
ORGANIZER;CN="Denis Bertrand":MAILTO:lavoiedelasimplicite@gmail.com
END:VEVENT
END:VCALENDAR